BEGIN:VCALENDAR
VERSION:2.0
PRODID:-//Kirchliche Studienbegleitung - ECPv6.15.20//NONSGML v1.0//EN
CALSCALE:GREGORIAN
METHOD:PUBLISH
X-ORIGINAL-URL:https://www.studienbegleitung-ph-heidelberg.de
X-WR-CALDESC:Veranstaltungen für Kirchliche Studienbegleitung
REFRESH-INTERVAL;VALUE=DURATION:PT1H
X-Robots-Tag:noindex
X-PUBLISHED-TTL:PT1H
BEGIN:VTIMEZONE
TZID:Europe/Berlin
BEGIN:DAYLIGHT
TZOFFSETFROM:+0100
TZOFFSETTO:+0200
TZNAME:CEST
DTSTART:20190331T010000
END:DAYLIGHT
BEGIN:STANDARD
TZOFFSETFROM:+0200
TZOFFSETTO:+0100
TZNAME:CET
DTSTART:20191027T010000
END:STANDARD
BEGIN:DAYLIGHT
TZOFFSETFROM:+0100
TZOFFSETTO:+0200
TZNAME:CEST
DTSTART:20200329T010000
END:DAYLIGHT
BEGIN:STANDARD
TZOFFSETFROM:+0200
TZOFFSETTO:+0100
TZNAME:CET
DTSTART:20201025T010000
END:STANDARD
BEGIN:DAYLIGHT
TZOFFSETFROM:+0100
TZOFFSETTO:+0200
TZNAME:CEST
DTSTART:20210328T010000
END:DAYLIGHT
BEGIN:STANDARD
TZOFFSETFROM:+0200
TZOFFSETTO:+0100
TZNAME:CET
DTSTART:20211031T010000
END:STANDARD
END:VTIMEZONE
BEGIN:VEVENT
DTSTART;TZID=Europe/Berlin:20201002T143000
DTEND;TZID=Europe/Berlin:20201004T130000
DTSTAMP:20260426T053410
CREATED:20191023T181641Z
LAST-MODIFIED:20260326T162616Z
UID:475-1601649000-1601816400@www.studienbegleitung-ph-heidelberg.de
SUMMARY:Die Spiritualität des hl. Franziskus und der hl. Klara v. Assisi
DESCRIPTION:Impulse\, Gebet\, Gespräche\, persönliche Zeiten\, freie Zeiten.\n\nKosten: 80\,- € (Bezuschussung möglich)
URL:https://www.studienbegleitung-ph-heidelberg.de/termin/die-spiritualitaet-des-hl-franziskus-und-der-hl-klara-v-assisi/
LOCATION:Kloster Gengenbach\, Bahnhofstraße 10\, Gengenbach\, Baden-Württemberg\, 77723\, Deutschland
CATEGORIES:Allgemein,Geistliches Mentorat
END:VEVENT
END:VCALENDAR