BEGIN:VCALENDAR
VERSION:2.0
PRODID:-//Kirchliche Studienbegleitung - ECPv6.15.20//NONSGML v1.0//EN
CALSCALE:GREGORIAN
METHOD:PUBLISH
X-WR-CALNAME:Kirchliche Studienbegleitung
X-ORIGINAL-URL:https://www.studienbegleitung-ph-heidelberg.de
X-WR-CALDESC:Veranstaltungen für Kirchliche Studienbegleitung
REFRESH-INTERVAL;VALUE=DURATION:PT1H
X-Robots-Tag:noindex
X-PUBLISHED-TTL:PT1H
BEGIN:VTIMEZONE
TZID:Europe/Berlin
BEGIN:DAYLIGHT
TZOFFSETFROM:+0100
TZOFFSETTO:+0200
TZNAME:CEST
DTSTART:20230326T010000
END:DAYLIGHT
BEGIN:STANDARD
TZOFFSETFROM:+0200
TZOFFSETTO:+0100
TZNAME:CET
DTSTART:20231029T010000
END:STANDARD
BEGIN:DAYLIGHT
TZOFFSETFROM:+0100
TZOFFSETTO:+0200
TZNAME:CEST
DTSTART:20240331T010000
END:DAYLIGHT
BEGIN:STANDARD
TZOFFSETFROM:+0200
TZOFFSETTO:+0100
TZNAME:CET
DTSTART:20241027T010000
END:STANDARD
BEGIN:DAYLIGHT
TZOFFSETFROM:+0100
TZOFFSETTO:+0200
TZNAME:CEST
DTSTART:20250330T010000
END:DAYLIGHT
BEGIN:STANDARD
TZOFFSETFROM:+0200
TZOFFSETTO:+0100
TZNAME:CET
DTSTART:20251026T010000
END:STANDARD
END:VTIMEZONE
BEGIN:VEVENT
DTSTART;TZID=Europe/Berlin:20241022T180000
DTEND;TZID=Europe/Berlin:20241022T210000
DTSTAMP:20260423T064610
CREATED:20240924T121455Z
LAST-MODIFIED:20260326T162603Z
UID:691-1729620000-1729630800@www.studienbegleitung-ph-heidelberg.de
SUMMARY:BIBEL ALIVE Block I
DESCRIPTION:Das BIBEL ALIVE Projekt besteht aus 2 Blöcken:\n\nBlock I ist ein Gruppenprojekt. Hier werden wir an drei Terminen auf Entdeckertour gehen und jeweils gemeinsam eine Bibelstelle\, wie einen Schatz heben. Sie lernen dabei verschiedene Herangehensweisen wie Bibliodrama\, Godly Play\, Bibliolog\, Arbeiten mit Ton\, Acryl und Multimedia\, Bibel Journaling\, Tanz und vieles mehr kennen.\n\nZiel ist es\, dass Sie bei sich selbst ankommen und in einen lebendigen Dialog mit Gott und untereinander treten. Ein gewollter Nebeneffekt ist\, dass Sie Methoden kennenlernen\, die sich auch in der Schule anwenden lassen. Inclusive einer Pause mit Snacks und Getränken.\n\nBlock I und Block II sind jeweils als 1 Tag anrechenbar für den Studienbegleitbrief.
URL:https://www.studienbegleitung-ph-heidelberg.de/termin/angebote-zur-entwicklung-der-eigenen-spiritualitaet/
LOCATION:Edith-Stein-Haus\, Neckarstaden 32\, Heidelberg\, 69117\, Deutschland
CATEGORIES:Geistliches Mentorat
END:VEVENT
END:VCALENDAR