BEGIN:VCALENDAR
VERSION:2.0
PRODID:-//Kirchliche Studienbegleitung - ECPv6.15.20//NONSGML v1.0//EN
CALSCALE:GREGORIAN
METHOD:PUBLISH
X-ORIGINAL-URL:https://www.studienbegleitung-ph-heidelberg.de
X-WR-CALDESC:Veranstaltungen für Kirchliche Studienbegleitung
REFRESH-INTERVAL;VALUE=DURATION:PT1H
X-Robots-Tag:noindex
X-PUBLISHED-TTL:PT1H
BEGIN:VTIMEZONE
TZID:Europe/Berlin
BEGIN:DAYLIGHT
TZOFFSETFROM:+0100
TZOFFSETTO:+0200
TZNAME:CEST
DTSTART:20230326T010000
END:DAYLIGHT
BEGIN:STANDARD
TZOFFSETFROM:+0200
TZOFFSETTO:+0100
TZNAME:CET
DTSTART:20231029T010000
END:STANDARD
BEGIN:DAYLIGHT
TZOFFSETFROM:+0100
TZOFFSETTO:+0200
TZNAME:CEST
DTSTART:20240331T010000
END:DAYLIGHT
BEGIN:STANDARD
TZOFFSETFROM:+0200
TZOFFSETTO:+0100
TZNAME:CET
DTSTART:20241027T010000
END:STANDARD
BEGIN:DAYLIGHT
TZOFFSETFROM:+0100
TZOFFSETTO:+0200
TZNAME:CEST
DTSTART:20250330T010000
END:DAYLIGHT
BEGIN:STANDARD
TZOFFSETFROM:+0200
TZOFFSETTO:+0100
TZNAME:CET
DTSTART:20251026T010000
END:STANDARD
END:VTIMEZONE
BEGIN:VEVENT
DTSTART;TZID=Europe/Berlin:20241116T100000
DTEND;TZID=Europe/Berlin:20241116T170000
DTSTAMP:20260423T053846
CREATED:20240924T124711Z
LAST-MODIFIED:20260326T162343Z
UID:709-1731751200-1731776400@www.studienbegleitung-ph-heidelberg.de
SUMMARY:Auszeit November - Zu Hause sein
DESCRIPTION:Ein Tag einfach mal raus aus dem Alltagstrott\n\nDie Auszeit ist ein spirituelles Angebot\, für alle die den Kopf mal frei bekommen wollen\, und sich fragen\, ob und wo denn Gott in ihrem Leben ist.\nEs gibt Gruppen- und Einzelelemente\, Ihre Fragen und Ihre Sehnsucht dürfen aufsteigen\, es wird kreativ und körperbezogen gearbeitet.\nJede Auszeit ist als 1 Tag anrechenbar für den Studienbegleitbrief.\n\n 
URL:https://www.studienbegleitung-ph-heidelberg.de/termin/auszeit-november-zu-hause-sein/
LOCATION:Weingarten (Baden)\, Baden-Württemberg\, 88250\, Germany
CATEGORIES:Geistliches Mentorat
END:VEVENT
END:VCALENDAR