BEGIN:VCALENDAR
VERSION:2.0
PRODID:-//Kirchliche Studienbegleitung - ECPv6.15.20//NONSGML v1.0//EN
CALSCALE:GREGORIAN
METHOD:PUBLISH
X-ORIGINAL-URL:https://www.studienbegleitung-ph-heidelberg.de
X-WR-CALDESC:Veranstaltungen für Kirchliche Studienbegleitung
REFRESH-INTERVAL;VALUE=DURATION:PT1H
X-Robots-Tag:noindex
X-PUBLISHED-TTL:PT1H
BEGIN:VTIMEZONE
TZID:Europe/Berlin
BEGIN:DAYLIGHT
TZOFFSETFROM:+0100
TZOFFSETTO:+0200
TZNAME:CEST
DTSTART:20230326T010000
END:DAYLIGHT
BEGIN:STANDARD
TZOFFSETFROM:+0200
TZOFFSETTO:+0100
TZNAME:CET
DTSTART:20231029T010000
END:STANDARD
BEGIN:DAYLIGHT
TZOFFSETFROM:+0100
TZOFFSETTO:+0200
TZNAME:CEST
DTSTART:20240331T010000
END:DAYLIGHT
BEGIN:STANDARD
TZOFFSETFROM:+0200
TZOFFSETTO:+0100
TZNAME:CET
DTSTART:20241027T010000
END:STANDARD
BEGIN:DAYLIGHT
TZOFFSETFROM:+0100
TZOFFSETTO:+0200
TZNAME:CEST
DTSTART:20250330T010000
END:DAYLIGHT
BEGIN:STANDARD
TZOFFSETFROM:+0200
TZOFFSETTO:+0100
TZNAME:CET
DTSTART:20251026T010000
END:STANDARD
END:VTIMEZONE
BEGIN:VEVENT
DTSTART;TZID=Europe/Berlin:20241130T100000
DTEND;TZID=Europe/Berlin:20241130T170000
DTSTAMP:20260423T041336
CREATED:20240924T125820Z
LAST-MODIFIED:20260326T162144Z
UID:719-1732960800-1732986000@www.studienbegleitung-ph-heidelberg.de
SUMMARY:Liturgie-Workshop Teil II (nur zusammen mit Teil I buchbar)
DESCRIPTION:Dieses 2-tägige Seminar umfasst folgende Themen:\n\n 	Faktoren einer liturgischen Feier in der Schule\n 	Bandbreite an liturgischen Feiern\n 	Wesentliche Elemente einer liturgischen Feier\n 	verschiedenste Methoden und Medien beispielhaft kennenlernen\n 	Erarbeiten\, Vorstellen und Reflektieren eines liturgischen Angebots für die Schule\n 	Anleitung eines Gottesdienstelementes im Rahmen einer „Segen-to-go“ Andacht\n\nDieser Workshop findet am Freitag und am Samstag in Präsenz statt.\nDiese 2 Tage können im Studienbegleitbrief zum Nachweis über den Erwerb der liturgischen Kompetenz angerechnet werden.
URL:https://www.studienbegleitung-ph-heidelberg.de/termin/liturgie-workshop-teil-ii-nur-zusammen-mit-teil-i-buchbar/
CATEGORIES:Geistliches Mentorat
END:VEVENT
END:VCALENDAR