BEGIN:VCALENDAR
VERSION:2.0
PRODID:-//Kirchliche Studienbegleitung - ECPv6.15.20//NONSGML v1.0//EN
CALSCALE:GREGORIAN
METHOD:PUBLISH
X-WR-CALNAME:Kirchliche Studienbegleitung
X-ORIGINAL-URL:https://www.studienbegleitung-ph-heidelberg.de
X-WR-CALDESC:Veranstaltungen für Kirchliche Studienbegleitung
REFRESH-INTERVAL;VALUE=DURATION:PT1H
X-Robots-Tag:noindex
X-PUBLISHED-TTL:PT1H
BEGIN:VTIMEZONE
TZID:Europe/Berlin
BEGIN:DAYLIGHT
TZOFFSETFROM:+0100
TZOFFSETTO:+0200
TZNAME:CEST
DTSTART:20240331T010000
END:DAYLIGHT
BEGIN:STANDARD
TZOFFSETFROM:+0200
TZOFFSETTO:+0100
TZNAME:CET
DTSTART:20241027T010000
END:STANDARD
BEGIN:DAYLIGHT
TZOFFSETFROM:+0100
TZOFFSETTO:+0200
TZNAME:CEST
DTSTART:20250330T010000
END:DAYLIGHT
BEGIN:STANDARD
TZOFFSETFROM:+0200
TZOFFSETTO:+0100
TZNAME:CET
DTSTART:20251026T010000
END:STANDARD
BEGIN:DAYLIGHT
TZOFFSETFROM:+0100
TZOFFSETTO:+0200
TZNAME:CEST
DTSTART:20260329T010000
END:DAYLIGHT
BEGIN:STANDARD
TZOFFSETFROM:+0200
TZOFFSETTO:+0100
TZNAME:CET
DTSTART:20261025T010000
END:STANDARD
END:VTIMEZONE
BEGIN:VEVENT
DTSTART;TZID=Europe/Berlin:20250130T101500
DTEND;TZID=Europe/Berlin:20250130T114500
DTSTAMP:20260423T011456
CREATED:20241024T124836Z
LAST-MODIFIED:20260326T162102Z
UID:765-1738232100-1738237500@www.studienbegleitung-ph-heidelberg.de
SUMMARY:Einführungsveranstaltung zur Missio canonica
DESCRIPTION:Herzliche Einladung zur einmal jährlich stattfindenden Einführungsveranstaltung zur Missio canonica.Wir freuen uns\, dazu Herrn Bächlin\, Leitung Referat Grund-\, Haupt-\, Werkreal-\, Real-\, Sonder-\, Gesamt-\, Gemeinschaftsschulen und Sonderpädagogische Bildungs- und Beratungszentren im Erzbischöflichen Ordinariat\, begrüßen zu dürfen. Das Testat im Studienbegleitbrief erfolgt vor Ort.
URL:https://www.studienbegleitung-ph-heidelberg.de/termin/einfuehrungsveranstaltung-zur-missio-canonica-2/
LOCATION:INF 517\, INF 517\, Heidelberg\, Germany
CATEGORIES:Allgemein,Geistliches Mentorat,Studienmentorat
END:VEVENT
END:VCALENDAR