BEGIN:VCALENDAR
VERSION:2.0
PRODID:-//Kirchliche Studienbegleitung - ECPv6.15.20//NONSGML v1.0//EN
CALSCALE:GREGORIAN
METHOD:PUBLISH
X-WR-CALNAME:Kirchliche Studienbegleitung
X-ORIGINAL-URL:https://www.studienbegleitung-ph-heidelberg.de
X-WR-CALDESC:Veranstaltungen für Kirchliche Studienbegleitung
REFRESH-INTERVAL;VALUE=DURATION:PT1H
X-Robots-Tag:noindex
X-PUBLISHED-TTL:PT1H
BEGIN:VTIMEZONE
TZID:Europe/Berlin
BEGIN:DAYLIGHT
TZOFFSETFROM:+0100
TZOFFSETTO:+0200
TZNAME:CEST
DTSTART:20240331T010000
END:DAYLIGHT
BEGIN:STANDARD
TZOFFSETFROM:+0200
TZOFFSETTO:+0100
TZNAME:CET
DTSTART:20241027T010000
END:STANDARD
BEGIN:DAYLIGHT
TZOFFSETFROM:+0100
TZOFFSETTO:+0200
TZNAME:CEST
DTSTART:20250330T010000
END:DAYLIGHT
BEGIN:STANDARD
TZOFFSETFROM:+0200
TZOFFSETTO:+0100
TZNAME:CET
DTSTART:20251026T010000
END:STANDARD
BEGIN:DAYLIGHT
TZOFFSETFROM:+0100
TZOFFSETTO:+0200
TZNAME:CEST
DTSTART:20260329T010000
END:DAYLIGHT
BEGIN:STANDARD
TZOFFSETFROM:+0200
TZOFFSETTO:+0100
TZNAME:CET
DTSTART:20261025T010000
END:STANDARD
END:VTIMEZONE
BEGIN:VEVENT
DTSTART;TZID=Europe/Berlin:20250310T170000
DTEND;TZID=Europe/Berlin:20250310T173000
DTSTAMP:20260422T235618
CREATED:20250210T181126Z
LAST-MODIFIED:20260326T162049Z
UID:859-1741626000-1741627800@www.studienbegleitung-ph-heidelberg.de
SUMMARY:Online Exerzitien
DESCRIPTION:Kurzfilme\, moderne Musik\, Gedichte und kreative Anregungen als Impulse für die Fastenzeit \n\n\n\nEs wird Zeit\, aus alten Sehgewohnheiten auszubrechen und gemeinsam auf Ostern zu zu gehen. Jeden Tag gibt es einen kurzen Impuls. Sonntags gibt es einen längeren. \n\n\n\nDas erste Onlinetreffen ist am Montag\, den 10. März um 17.00 Uhr. Dort legen wir einen Termin für die folgenden Onlinetreffen fest. \n\n\n\nAnmeldung und Fragen bitte an Monika Beck: geistlichesmentorat@studienbegleitung-ph-heidelberg.de \n\n\n\nDie Online Exerzitien sind DIE Chance! Auch für Menschen außerhalb der Studienbegleitung.
URL:https://www.studienbegleitung-ph-heidelberg.de/termin/online-exerzitien/
END:VEVENT
END:VCALENDAR