BEGIN:VCALENDAR
VERSION:2.0
PRODID:-//Kirchliche Studienbegleitung - ECPv6.15.20//NONSGML v1.0//EN
CALSCALE:GREGORIAN
METHOD:PUBLISH
X-ORIGINAL-URL:https://www.studienbegleitung-ph-heidelberg.de
X-WR-CALDESC:Veranstaltungen für Kirchliche Studienbegleitung
REFRESH-INTERVAL;VALUE=DURATION:PT1H
X-Robots-Tag:noindex
X-PUBLISHED-TTL:PT1H
BEGIN:VTIMEZONE
TZID:Europe/Berlin
BEGIN:DAYLIGHT
TZOFFSETFROM:+0100
TZOFFSETTO:+0200
TZNAME:CEST
DTSTART:20230326T010000
END:DAYLIGHT
BEGIN:STANDARD
TZOFFSETFROM:+0200
TZOFFSETTO:+0100
TZNAME:CET
DTSTART:20231029T010000
END:STANDARD
BEGIN:DAYLIGHT
TZOFFSETFROM:+0100
TZOFFSETTO:+0200
TZNAME:CEST
DTSTART:20240331T010000
END:DAYLIGHT
BEGIN:STANDARD
TZOFFSETFROM:+0200
TZOFFSETTO:+0100
TZNAME:CET
DTSTART:20241027T010000
END:STANDARD
BEGIN:DAYLIGHT
TZOFFSETFROM:+0100
TZOFFSETTO:+0200
TZNAME:CEST
DTSTART:20250330T010000
END:DAYLIGHT
BEGIN:STANDARD
TZOFFSETFROM:+0200
TZOFFSETTO:+0100
TZNAME:CET
DTSTART:20251026T010000
END:STANDARD
END:VTIMEZONE
BEGIN:VEVENT
DTSTART;TZID=Europe/Berlin:20241203T180000
DTEND;TZID=Europe/Berlin:20241203T210000
DTSTAMP:20260423T025159
CREATED:20240924T122504Z
LAST-MODIFIED:20260326T162130Z
UID:700-1733248800-1733259600@www.studienbegleitung-ph-heidelberg.de
SUMMARY:BIBEL ALIVE BLOCK I
DESCRIPTION:Block I ist ein Gruppenprojekt. Hier werden wir an drei Terminen auf Entdeckertour gehen und jeweils gemeinsam eine Bibelstelle\, wie einen Schatz heben. Sie lernen dabei verschiedene Herangehensweisen wie Bibliodrama\, Godly Play\, Bibliolog\, Arbeiten mit Ton\, Acryl und Multimedia\, Bibel Journaling\, Tanz und vieles mehr kennen. \nZiel ist es\, dass Sie bei sich selbst ankommen und in einen lebendigen Dialog mit Gott und untereinander treten. Ein gewollter Nebeneffekt ist\, dass Sie Methoden kennenlernen\, die sich auch in der Schule anwenden lassen. Inclusiv einer Pause mit Snacks und Getränken.Block I und Block II sind jeweils als 1 Tag anrechenbar für den Studienbegleitbrief und unabhängig voneinander buchbar.
URL:https://www.studienbegleitung-ph-heidelberg.de/termin/bibel-alive-block-i/
LOCATION:Edith-Stein-Haus\, Neckarstaden 32\, Heidelberg\, 69117\, Deutschland
CATEGORIES:Geistliches Mentorat
END:VEVENT
BEGIN:VEVENT
DTSTART;TZID=Europe/Berlin:20241214T100000
DTEND;TZID=Europe/Berlin:20241214T170000
DTSTAMP:20260423T025159
CREATED:20240924T124950Z
LAST-MODIFIED:20260326T162119Z
UID:713-1734170400-1734195600@www.studienbegleitung-ph-heidelberg.de
SUMMARY:Auszeit Dezember – Vom Leuchten
DESCRIPTION:Ein Tag einfach mal raus aus dem Alltagstrott \n\n\n\nDie Auszeit ist ein spirituelles Angebot\, für alle die den Kopf mal frei bekommen wollen\, und sich fragen\, ob und wo denn Gott in ihrem Leben ist.Es gibt Gruppen- und Einzelelemente\, Ihre Fragen und Ihre Sehnsucht dürfen aufsteigen\, es wird kreativ und körperbezogen gearbeitet.Jede Auszeit ist als 1 Tag anrechenbar für den Studienbegleitbrief. \n\n\n\nAdventliche Impulse zur Herstellung von Prayer Bowls. \n\n\n\nOrt wird noch bekanntgegeben.
URL:https://www.studienbegleitung-ph-heidelberg.de/termin/auszeit-dezember-vom-leuchten/
CATEGORIES:Geistliches Mentorat
END:VEVENT
END:VCALENDAR