BEGIN:VCALENDAR
VERSION:2.0
PRODID:-//Kirchliche Studienbegleitung - ECPv6.15.20//NONSGML v1.0//EN
CALSCALE:GREGORIAN
METHOD:PUBLISH
X-WR-CALNAME:Kirchliche Studienbegleitung
X-ORIGINAL-URL:https://www.studienbegleitung-ph-heidelberg.de
X-WR-CALDESC:Veranstaltungen für Kirchliche Studienbegleitung
REFRESH-INTERVAL;VALUE=DURATION:PT1H
X-Robots-Tag:noindex
X-PUBLISHED-TTL:PT1H
BEGIN:VTIMEZONE
TZID:Europe/Berlin
BEGIN:DAYLIGHT
TZOFFSETFROM:+0100
TZOFFSETTO:+0200
TZNAME:CEST
DTSTART:20240331T010000
END:DAYLIGHT
BEGIN:STANDARD
TZOFFSETFROM:+0200
TZOFFSETTO:+0100
TZNAME:CET
DTSTART:20241027T010000
END:STANDARD
BEGIN:DAYLIGHT
TZOFFSETFROM:+0100
TZOFFSETTO:+0200
TZNAME:CEST
DTSTART:20250330T010000
END:DAYLIGHT
BEGIN:STANDARD
TZOFFSETFROM:+0200
TZOFFSETTO:+0100
TZNAME:CET
DTSTART:20251026T010000
END:STANDARD
BEGIN:DAYLIGHT
TZOFFSETFROM:+0100
TZOFFSETTO:+0200
TZNAME:CEST
DTSTART:20260329T010000
END:DAYLIGHT
BEGIN:STANDARD
TZOFFSETFROM:+0200
TZOFFSETTO:+0100
TZNAME:CET
DTSTART:20261025T010000
END:STANDARD
END:VTIMEZONE
BEGIN:VEVENT
DTSTART;TZID=Europe/Berlin:20250706T100000
DTEND;TZID=Europe/Berlin:20250706T170000
DTSTAMP:20260422T164157
CREATED:20250515T165928Z
LAST-MODIFIED:20250515T172057Z
UID:890-1751796000-1751821200@www.studienbegleitung-ph-heidelberg.de
SUMMARY:AUSZEIT Schätze heben
DESCRIPTION:In dieser Auszeit werden wir unsere inneren Schätze als Kraftquelleentdecken und „heben“. \n\n\n\nDer Tag beginnt mit einer kleinen Wanderung\, die Sie unterstützt durch geistliche Impulse in Eigenregie unternehmen.  \n\n\n\nUm 12.30 Uhr gibt es im Edith Stein Haus dann Mittagessen.  \n\n\n\nIm Anschluss gehen wir mithilfe von Körperübungen und kreativen Elementen in die persönliche spirituelle Tiefe.  \n\n\n\nDer Tag wird weitestgehend in Einzelarbeit stattfinden.  \n\n\n\nDen Abschluss bildet ein Abendgebet der Iona Community aus Schottland. \n\n\n\nAnmeldung und Fragen gerne über das Geistliche Mentorat.
URL:https://www.studienbegleitung-ph-heidelberg.de/termin/auszeit-schaetze-heben/
LOCATION:Edith-Stein-Haus\, Neckarstaden 32\, Heidelberg\, 69117\, Deutschland
ORGANIZER;CN="Geistliches Mentorat":MAILTO:geistlichesmentorat@studienbegleitung-ph-heidelberg.de
END:VEVENT
END:VCALENDAR