BEGIN:VCALENDAR
VERSION:2.0
PRODID:-//Kirchliche Studienbegleitung - ECPv6.15.20//NONSGML v1.0//EN
CALSCALE:GREGORIAN
METHOD:PUBLISH
X-WR-CALNAME:Kirchliche Studienbegleitung
X-ORIGINAL-URL:https://www.studienbegleitung-ph-heidelberg.de
X-WR-CALDESC:Veranstaltungen für Kirchliche Studienbegleitung
REFRESH-INTERVAL;VALUE=DURATION:PT1H
X-Robots-Tag:noindex
X-PUBLISHED-TTL:PT1H
BEGIN:VTIMEZONE
TZID:Europe/Berlin
BEGIN:DAYLIGHT
TZOFFSETFROM:+0100
TZOFFSETTO:+0200
TZNAME:CEST
DTSTART:20240331T010000
END:DAYLIGHT
BEGIN:STANDARD
TZOFFSETFROM:+0200
TZOFFSETTO:+0100
TZNAME:CET
DTSTART:20241027T010000
END:STANDARD
BEGIN:DAYLIGHT
TZOFFSETFROM:+0100
TZOFFSETTO:+0200
TZNAME:CEST
DTSTART:20250330T010000
END:DAYLIGHT
BEGIN:STANDARD
TZOFFSETFROM:+0200
TZOFFSETTO:+0100
TZNAME:CET
DTSTART:20251026T010000
END:STANDARD
BEGIN:DAYLIGHT
TZOFFSETFROM:+0100
TZOFFSETTO:+0200
TZNAME:CEST
DTSTART:20260329T010000
END:DAYLIGHT
BEGIN:STANDARD
TZOFFSETFROM:+0200
TZOFFSETTO:+0100
TZNAME:CET
DTSTART:20261025T010000
END:STANDARD
END:VTIMEZONE
BEGIN:VEVENT
DTSTART;TZID=Europe/Berlin:20250927T080000
DTEND;TZID=Europe/Berlin:20250927T170000
DTSTAMP:20260422T135838
CREATED:20250731T145813Z
LAST-MODIFIED:20260326T161500Z
UID:901-1758960000-1758992400@www.studienbegleitung-ph-heidelberg.de
SUMMARY:Liturgieworkshop
DESCRIPTION:„Der Dankbarkeit eine Stimme geben“ \n\n\n\n\n\nIn diesem Workshop wollen wir in einem ersten Teil in den Blick nehmen\, für was wir dankbar sind. Unsere Stimme mit ihrer Besonderheit und ihrem Potential steht dabei im Vordergrund. \n\n\n\nIm Anschluss ist Zeit und Raum für die persönlichen Vertiefung und Reflexion und für ein gemeinsames Mittagessen. Nach dem Mittagessen beginnt der zweite Teil\, bei dem wir das Thema Dankbarkeit mit dem Erntedank verbinden und liturgische Gestaltungsmöglichkeiten entdecken und weiterentwickeln. \n\n\n\nDer Tag kann als 1 liturgischer Tag angerechnet werden. Anmeldungen für beide Mentorate bei Volker Schwab\, Geistlicher Mentor Karlsruhe. (volker.schwab@khg-karlsruhe.de) \n\n\n\nDie Veranstaltung findet statt im Karl Rahner Haus\,Hirschstr. 103\,76137 Karlsruhe \n\n\n\nEine Kooperation der Studienbegleitungen Heidelberg und Karlsruhe
URL:https://www.studienbegleitung-ph-heidelberg.de/termin/liturgieworkshop/
CATEGORIES:Allgemein,Geistliches Mentorat
END:VEVENT
END:VCALENDAR