BEGIN:VCALENDAR
VERSION:2.0
PRODID:-//Kirchliche Studienbegleitung - ECPv6.15.20//NONSGML v1.0//EN
CALSCALE:GREGORIAN
METHOD:PUBLISH
X-ORIGINAL-URL:https://www.studienbegleitung-ph-heidelberg.de
X-WR-CALDESC:Veranstaltungen für Kirchliche Studienbegleitung
REFRESH-INTERVAL;VALUE=DURATION:PT1H
X-Robots-Tag:noindex
X-PUBLISHED-TTL:PT1H
BEGIN:VTIMEZONE
TZID:Europe/Berlin
BEGIN:DAYLIGHT
TZOFFSETFROM:+0100
TZOFFSETTO:+0200
TZNAME:CEST
DTSTART:20240331T010000
END:DAYLIGHT
BEGIN:STANDARD
TZOFFSETFROM:+0200
TZOFFSETTO:+0100
TZNAME:CET
DTSTART:20241027T010000
END:STANDARD
BEGIN:DAYLIGHT
TZOFFSETFROM:+0100
TZOFFSETTO:+0200
TZNAME:CEST
DTSTART:20250330T010000
END:DAYLIGHT
BEGIN:STANDARD
TZOFFSETFROM:+0200
TZOFFSETTO:+0100
TZNAME:CET
DTSTART:20251026T010000
END:STANDARD
BEGIN:DAYLIGHT
TZOFFSETFROM:+0100
TZOFFSETTO:+0200
TZNAME:CEST
DTSTART:20260329T010000
END:DAYLIGHT
BEGIN:STANDARD
TZOFFSETFROM:+0200
TZOFFSETTO:+0100
TZNAME:CET
DTSTART:20261025T010000
END:STANDARD
END:VTIMEZONE
BEGIN:VEVENT
DTSTART;TZID=Europe/Berlin:20251110T183000
DTEND;TZID=Europe/Berlin:20251110T200000
DTSTAMP:20260422T110231
CREATED:20251008T174141Z
LAST-MODIFIED:20260326T161442Z
UID:921-1762799400-1762804800@www.studienbegleitung-ph-heidelberg.de
SUMMARY:Minioasenkurs - Ein spirituelles Onlineangebot in drei Einheiten à 1\,5 Stunden - Teil 1
DESCRIPTION:Mitten im Alltag sich eine Oase zu schaffen\, die einem hilft zu sich selbst und zu Gott zu kommen\, ist eine lebenslange Herausforderung. \n\n\n\nIn diesem kleinen Kurs geht es in der ersten Einheit um die Frage. Was ist Religion und was ist Spiritualität? Die zweite und dritte Einheit sind sehr praxisorientiert und sollen Lust machen\, kreative und körperorientierte Meditationsformen auszuprobieren. \n\n\n\nDer Kurs zählt als 1 Geistlicher Tag im Studienbegleitbrief.Wochentag und Uhrzeit kann an die Bedürfnisse der Teilnehmenden angepasst werden.Anmeldung und Fragen an:geistlichesmentorat@studienbegleitung-ph-heidelberg.de \n\n\n\nMontag\, 10.11.2025\, 18.30 Uhr \n\n\n\nDonnerstag\, 20.11.2025\, 18.30 Uhr \n\n\n\nMontag\, 01.12.25\, 18.30 Uhr
URL:https://www.studienbegleitung-ph-heidelberg.de/termin/minioasenkurs/
CATEGORIES:Allgemein,Geistliches Mentorat
END:VEVENT
BEGIN:VEVENT
DTSTART;TZID=Europe/Berlin:20251120T183000
DTEND;TZID=Europe/Berlin:20251120T200000
DTSTAMP:20260422T110231
CREATED:20251008T174634Z
LAST-MODIFIED:20260326T161734Z
UID:926-1763663400-1763668800@www.studienbegleitung-ph-heidelberg.de
SUMMARY:Minioasenkurs - Ein spirituelles Onlineangebot in drei Einheiten à 1\,5 Stunden - Teil 2
DESCRIPTION:Mitten im Alltag sich eine Oase zu schaffen\, die einem hilft zu sich selbst und zu Gott zu kommen\, ist eine lebenslange Herausforderung. \n\n\n\nIn diesem kleinen Kurs geht es in der ersten Einheit um die Frage. Was ist Religion und was ist Spiritualität? Die zweite und dritte Einheit sind sehr praxisorientiert und sollen Lust machen\, kreative und körperorientierte Meditationsformen auszuprobieren. \n\n\n\nDer Kurs zählt als 1 Geistlicher Tag im Studienbegleitbrief.Wochentag und Uhrzeit kann an die Bedürfnisse der Teilnehmenden angepasst werden.Anmeldung und Fragen an:geistlichesmentorat@studienbegleitung-ph-heidelberg.de \n\n\n\nMontag\, 10.11.2025\, 18.30 Uhr \n\n\n\nDonnerstag\, 20.11.2025\, 18.30 Uhr \n\n\n\nMontag\, 01.12.25\, 18.30 Uhr
URL:https://www.studienbegleitung-ph-heidelberg.de/termin/minioasenkurs-ein-spirituelles-onlineangebot-in-drei-einheiten-a-15-stunden/
CATEGORIES:Allgemein,Geistliches Mentorat
END:VEVENT
BEGIN:VEVENT
DTSTART;TZID=Europe/Berlin:20251129T100000
DTEND;TZID=Europe/Berlin:20251129T170000
DTSTAMP:20260422T110231
CREATED:20251008T180742Z
LAST-MODIFIED:20260326T161432Z
UID:944-1764410400-1764435600@www.studienbegleitung-ph-heidelberg.de
SUMMARY:Neu terminiert: Liturgieworkshop „Was mache ich\, wenn…“ Verlust\, Trauer und Tod in der Schulgemeinschaft
DESCRIPTION:Immer wieder werden wir in der Schulgemeinschaft mit großen und kleinen Formen des Verlustes konfrontiert. In diesem Workshop blicken wir auf unsere eigene Haltung zum Tod und lernen hilfreiche Methoden im Umgang mit dem Thema kennen. Frau Susanne Gebhardt\, als erfahrene Trauerbegleiterin für Kinder und Jugendliche\, wird uns an ihrem reichen Erfahrungsschatz teilhaben lassen und von Angeboten und Vernetzungen berichten\, die uns konkret unterstützen können. Zum Abschluss überlegen wir\, welche liturgischen Elemente\, in diesen Situationen hilfreich sein können und was bei einem Abschied im schulischen Rahmen eingesetzt werden kann.
URL:https://www.studienbegleitung-ph-heidelberg.de/termin/neu-terminiert-liturgieworkshop-was-mache-ich-wenn-verlust-trauer-und-tod-in-der-schulgemeinschaft/
LOCATION:Edith-Stein-Haus\, Neckarstaden 32\, Heidelberg\, 69117\, Deutschland
CATEGORIES:Allgemein,Geistliches Mentorat
END:VEVENT
END:VCALENDAR