BEGIN:VCALENDAR
VERSION:2.0
PRODID:-//Kirchliche Studienbegleitung - ECPv6.15.20//NONSGML v1.0//EN
CALSCALE:GREGORIAN
METHOD:PUBLISH
X-WR-CALNAME:Kirchliche Studienbegleitung
X-ORIGINAL-URL:https://www.studienbegleitung-ph-heidelberg.de
X-WR-CALDESC:Veranstaltungen für Kirchliche Studienbegleitung
REFRESH-INTERVAL;VALUE=DURATION:PT1H
X-Robots-Tag:noindex
X-PUBLISHED-TTL:PT1H
BEGIN:VTIMEZONE
TZID:Europe/Berlin
BEGIN:DAYLIGHT
TZOFFSETFROM:+0100
TZOFFSETTO:+0200
TZNAME:CEST
DTSTART:20240331T010000
END:DAYLIGHT
BEGIN:STANDARD
TZOFFSETFROM:+0200
TZOFFSETTO:+0100
TZNAME:CET
DTSTART:20241027T010000
END:STANDARD
BEGIN:DAYLIGHT
TZOFFSETFROM:+0100
TZOFFSETTO:+0200
TZNAME:CEST
DTSTART:20250330T010000
END:DAYLIGHT
BEGIN:STANDARD
TZOFFSETFROM:+0200
TZOFFSETTO:+0100
TZNAME:CET
DTSTART:20251026T010000
END:STANDARD
BEGIN:DAYLIGHT
TZOFFSETFROM:+0100
TZOFFSETTO:+0200
TZNAME:CEST
DTSTART:20260329T010000
END:DAYLIGHT
BEGIN:STANDARD
TZOFFSETFROM:+0200
TZOFFSETTO:+0100
TZNAME:CET
DTSTART:20261025T010000
END:STANDARD
END:VTIMEZONE
BEGIN:VEVENT
DTSTART;TZID=Europe/Berlin:20251201T183000
DTEND;TZID=Europe/Berlin:20251201T200000
DTSTAMP:20260422T092744
CREATED:20251008T175211Z
LAST-MODIFIED:20260326T161421Z
UID:933-1764613800-1764619200@www.studienbegleitung-ph-heidelberg.de
SUMMARY:Minioasenkurs - Ein spirituelles Onlineangebot in drei Einheiten à 1\,5 Stunden - Teil 3
DESCRIPTION:Mitten im Alltag sich eine Oase zu schaffen\, die einem hilft zu sich selbst und zu Gott zu kommen\, ist eine lebenslange Herausforderung. \n\n\n\nIn diesem kleinen Kurs geht es in der ersten Einheit um die Frage. Was ist Religion und was ist Spiritualität? Die zweite und dritte Einheit sind sehr praxisorientiert und sollen Lust machen\, kreative und körperorientierte Meditationsformen auszuprobieren. \n\n\n\nDer Kurs zählt als 1 Geistlicher Tag im Studienbegleitbrief.Wochentag und Uhrzeit kann an die Bedürfnisse der Teilnehmenden angepasst werden.Anmeldung und Fragen an:geistlichesmentorat@studienbegleitung-ph-heidelberg.de \n\n\n\nMontag\, 10.11.2025\, 18.30 Uhr \n\n\n\nDonnerstag\, 20.11.2025\, 18.30 Uhr \n\n\n\nMontag\, 01.12.25\, 18.30 Uhr
URL:https://www.studienbegleitung-ph-heidelberg.de/termin/minioasenkurs-ein-spirituelles-onlineangebot-a-1-5-stunden-teil-3/
CATEGORIES:Allgemein,Geistliches Mentorat
END:VEVENT
BEGIN:VEVENT
DTSTART;TZID=Europe/Berlin:20251213T100000
DTEND;TZID=Europe/Berlin:20251213T160000
DTSTAMP:20260422T092744
CREATED:20251008T175922Z
LAST-MODIFIED:20260326T161409Z
UID:938-1765620000-1765641600@www.studienbegleitung-ph-heidelberg.de
SUMMARY:Auszeit Advent
DESCRIPTION:Wo fängt der Himmel an? \n\n\n\nAuf Stroh\, ausgerechnet auf Stroh! \n\n\n\nIn dieser Auszeit schauen wir auf die vielen Dinge unseres Lebens\, die uns besonders wichtig erscheinen und auf die Dinge\, die manchmal Gefahr laufen\, ausgemistet zu werden. \n\n\n\nDer Tag beinhaltet Zeit für Sie selbst\, Körperübungen\, anregende biblische Impulse und kreative Umsetzungen des Erlebten. Er kann als ein spiritueller Tag angerechnet werden. \n\n\n\nAnmeldung und Fragen angeistlichesmentorat@studienbegleitung-ph-heidelberg.de
URL:https://www.studienbegleitung-ph-heidelberg.de/termin/auszeit-advent/
LOCATION:Edith-Stein-Haus\, Neckarstaden 32\, Heidelberg\, 69117\, Deutschland
CATEGORIES:Allgemein,Geistliches Mentorat
END:VEVENT
END:VCALENDAR